BEGIN:VCALENDAR
VERSION:2.0
PRODID:-//Escrever Escrever - ECPv6.15.20//NONSGML v1.0//EN
CALSCALE:GREGORIAN
METHOD:PUBLISH
X-ORIGINAL-URL:https://escreverescrever.com
X-WR-CALDESC:Eventos para Escrever Escrever
REFRESH-INTERVAL;VALUE=DURATION:PT1H
X-Robots-Tag:noindex
X-PUBLISHED-TTL:PT1H
BEGIN:VTIMEZONE
TZID:UTC
BEGIN:STANDARD
TZOFFSETFROM:+0000
TZOFFSETTO:+0000
TZNAME:UTC
DTSTART:20250101T000000
END:STANDARD
END:VTIMEZONE
BEGIN:VEVENT
DTSTART;TZID=UTC:20260602T100000
DTEND;TZID=UTC:20260602T123000
DTSTAMP:20260419T163628
CREATED:20251203T101652Z
LAST-MODIFIED:20260417T164344Z
UID:10000143-1780394400-1780403400@escreverescrever.com
SUMMARY:IA à minha medida | manhã
DESCRIPTION:  \n 
URL:https://escreverescrever.com/curso/ia-a-minha-medida-manha/
END:VEVENT
BEGIN:VEVENT
DTSTART;TZID=UTC:20260602T183000
DTEND;TZID=UTC:20260602T210000
DTSTAMP:20260419T163628
CREATED:20251203T102115Z
LAST-MODIFIED:20260417T164355Z
UID:10000144-1780425000-1780434000@escreverescrever.com
SUMMARY:IA à minha medida | pós-laboral
DESCRIPTION:  \n 
URL:https://escreverescrever.com/curso/ia-a-minha-medida-pos-laboral/
END:VEVENT
END:VCALENDAR