BEGIN:VCALENDAR
VERSION:2.0
PRODID:-//Escrever Escrever - ECPv6.15.20//NONSGML v1.0//EN
CALSCALE:GREGORIAN
METHOD:PUBLISH
X-ORIGINAL-URL:https://escreverescrever.com
X-WR-CALDESC:Eventos para Escrever Escrever
REFRESH-INTERVAL;VALUE=DURATION:PT1H
X-Robots-Tag:noindex
X-PUBLISHED-TTL:PT1H
BEGIN:VTIMEZONE
TZID:UTC
BEGIN:STANDARD
TZOFFSETFROM:+0000
TZOFFSETTO:+0000
TZNAME:UTC
DTSTART:20250101T000000
END:STANDARD
END:VTIMEZONE
BEGIN:VEVENT
DTSTART;TZID=UTC:20260605T190000
DTEND;TZID=UTC:20260605T213000
DTSTAMP:20260419T163434
CREATED:20230913T100839Z
LAST-MODIFIED:20260417T154935Z
UID:10000005-1780686000-1780695000@escreverescrever.com
SUMMARY:escrever a espreitar a poesia 2 | online
DESCRIPTION:Depois da primeira espreitadela\, este curso continua a explorar os estímulos\, linguagem e técnicas da poesia para desfrutar ainda mais do prazer de escrever em linhas fluidas. Abrimos a janela a novos temas\, formatos e autores e através de exercícios práticos\, iremos experimentar diferentes formas de escrever.
URL:https://escreverescrever.com/curso/escrever-a-espreitar-a-poesia-2-online/
END:VEVENT
END:VCALENDAR