BEGIN:VCALENDAR
VERSION:2.0
PRODID:-//Escrever Escrever - ECPv6.15.20//NONSGML v1.0//EN
CALSCALE:GREGORIAN
METHOD:PUBLISH
X-WR-CALNAME:Escrever Escrever
X-ORIGINAL-URL:https://escreverescrever.com
X-WR-CALDESC:Eventos para Escrever Escrever
REFRESH-INTERVAL;VALUE=DURATION:PT1H
X-Robots-Tag:noindex
X-PUBLISHED-TTL:PT1H
BEGIN:VTIMEZONE
TZID:UTC
BEGIN:STANDARD
TZOFFSETFROM:+0000
TZOFFSETTO:+0000
TZNAME:UTC
DTSTART:20250101T000000
END:STANDARD
END:VTIMEZONE
BEGIN:VEVENT
DTSTART;TZID=UTC:20260706T100000
DTEND;TZID=UTC:20260706T123000
DTSTAMP:20260419T193640
CREATED:20240731T170539Z
LAST-MODIFIED:20260417T165318Z
UID:10000105-1783332000-1783341000@escreverescrever.com
SUMMARY:revisão de textos 1 online intensivo
DESCRIPTION:Conheça o ofício de revisor e a sua metodologia de trabalho. Neste curso introdutório à prática de revisão de texto vamos analisar as dificuldades mais frequentes que necessariamente terão de ser superadas durante o processo de revisão. Para prosseguir de forma mais confiante e segura\, serão facultadas referências bibliográficas e ferramentas digitais de auxílio à revisão. O curso inclui ainda exercícios práticos em todas as sessões.
URL:https://escreverescrever.com/curso/revisao-de-textos-1-online-intensivo/
END:VEVENT
BEGIN:VEVENT
DTSTART;TZID=UTC:20260711T170000
DTEND;TZID=UTC:20260711T190000
DTSTAMP:20260419T193640
CREATED:20240201T004946Z
LAST-MODIFIED:20260417T161311Z
UID:10000040-1783789200-1783796400@escreverescrever.com
SUMMARY:naftalina | um encontro com os objetos
DESCRIPTION:Quem\, no decorrer de uma leitura\, nunca rabiscou\, fez alguma anotação pessoal ou deixou uma palavra escrita que fosse na margem? Ler um livro é também escrever. \nNeste novo formato da «Naftalina»\, onde se dá o encontro entre a leitura e a escrita\, a proposta é abordarmos um livro por mês.  O livro\, cuja leitura prévia não é obrigatória\, é um pretexto para em sessão conversarmos e escrevermos a partir de fragmentos da narrativa\, ideias avulsas e apontamentos dos participantes.
URL:https://escreverescrever.com/curso/naftalina-um-encontro-com-os-objetos/
END:VEVENT
BEGIN:VEVENT
DTSTART;TZID=UTC:20260718T180000
DTEND;TZID=UTC:20260718T200000
DTSTAMP:20260419T193640
CREATED:20260304T110917Z
LAST-MODIFIED:20260401T112447Z
UID:10000150-1784397600-1784404800@escreverescrever.com
SUMMARY:retiro de Escrita Criativa em Óbidos
DESCRIPTION:
URL:https://escreverescrever.com/curso/retiro-de-escrita-criativa-em-obidos/
END:VEVENT
BEGIN:VEVENT
DTSTART;TZID=UTC:20260808T170000
DTEND;TZID=UTC:20260808T190000
DTSTAMP:20260419T193640
CREATED:20240201T014919Z
LAST-MODIFIED:20260417T161428Z
UID:10000047-1786208400-1786215600@escreverescrever.com
SUMMARY:naftalina | um encontro com a multiplicidade
DESCRIPTION:Quem\, no decorrer de uma leitura\, nunca rabiscou\, fez alguma anotação pessoal ou deixou uma palavra escrita que fosse na margem? Ler um livro é também escrever. \nNeste novo formato da «Naftalina»\, onde se dá o encontro entre a leitura e a escrita\, a proposta é abordarmos um livro por mês.  O livro\, cuja leitura prévia não é obrigatória\, é um pretexto para em sessão conversarmos e escrevermos a partir de fragmentos da narrativa\, ideias avulsas e apontamentos dos participantes. \n  \n 
URL:https://escreverescrever.com/curso/naftalina-um-encontro-com-a-multiplicidade/
END:VEVENT
BEGIN:VEVENT
DTSTART;TZID=UTC:20260905T150000
DTEND;TZID=UTC:20260905T160000
DTSTAMP:20260419T193640
CREATED:20250906T131643Z
LAST-MODIFIED:20260417T162629Z
UID:10000137-1788620400-1788624000@escreverescrever.com
SUMMARY:escrever sai à rua | escrever nas alturas
DESCRIPTION:
URL:https://escreverescrever.com/curso/escrever-sai-a-rua-escrever-nas-alturas/
END:VEVENT
BEGIN:VEVENT
DTSTART;TZID=UTC:20260912T170000
DTEND;TZID=UTC:20260912T190000
DTSTAMP:20260419T193640
CREATED:20240201T010341Z
LAST-MODIFIED:20260417T161519Z
UID:10000042-1789232400-1789239600@escreverescrever.com
SUMMARY:naftalina | um encontro com a opressão
DESCRIPTION:Quem\, no decorrer de uma leitura\, nunca rabiscou\, fez alguma anotação pessoal ou deixou uma palavra escrita que fosse na margem? Ler um livro é também escrever. \nNeste novo formato da «Naftalina»\, onde se dá o encontro entre a leitura e a escrita\, a proposta é abordarmos um livro por mês.  O livro\, cuja leitura prévia não é obrigatória\, é um pretexto para em sessão conversarmos e escrevermos a partir de fragmentos da narrativa\, ideias avulsas e apontamentos dos participantes. \n  \n 
URL:https://escreverescrever.com/curso/naftalina-um-encontro-com-a-opressao/
END:VEVENT
BEGIN:VEVENT
DTSTART;TZID=UTC:20261010T170000
DTEND;TZID=UTC:20261010T190000
DTSTAMP:20260419T193640
CREATED:20240201T015323Z
LAST-MODIFIED:20260417T161600Z
UID:10000048-1791651600-1791658800@escreverescrever.com
SUMMARY:naftalina | um encontro com a perda
DESCRIPTION:Quem\, no decorrer de uma leitura\, nunca rabiscou\, fez alguma anotação pessoal ou deixou uma palavra escrita que fosse na margem? Ler um livro é também escrever. \nNeste novo formato da «Naftalina»\, onde se dá o encontro entre a leitura e a escrita\, a proposta é abordarmos um livro por mês.  O livro\, cuja leitura prévia não é obrigatória\, é um pretexto para em sessão conversarmos e escrevermos a partir de fragmentos da narrativa\, ideias avulsas e apontamentos dos participantes. \n  \n 
URL:https://escreverescrever.com/curso/um-encontro-com-a-perda/
END:VEVENT
BEGIN:VEVENT
DTSTART;TZID=UTC:20261017T143000
DTEND;TZID=UTC:20261017T160000
DTSTAMP:20260419T193640
CREATED:20241115T130637Z
LAST-MODIFIED:20260417T162831Z
UID:10000111-1792247400-1792252800@escreverescrever.com
SUMMARY:escrever sai à rua | escrever com as estrelas
DESCRIPTION:
URL:https://escreverescrever.com/curso/escrever-sai-a-rua-escrever-com-as-estrelas/
END:VEVENT
BEGIN:VEVENT
DTSTART;TZID=UTC:20261101T100000
DTEND;TZID=UTC:20261101T123000
DTSTAMP:20260419T193640
CREATED:20240201T044101Z
LAST-MODIFIED:20260417T163035Z
UID:10000056-1793527200-1793536200@escreverescrever.com
SUMMARY:escrever sai à rua | escrever para além da vida
DESCRIPTION:
URL:https://escreverescrever.com/curso/escrever-sai-a-rua-escrever-para-alem-da-vida/
END:VEVENT
BEGIN:VEVENT
DTSTART;TZID=UTC:20261114T170000
DTEND;TZID=UTC:20261114T190000
DTSTAMP:20260419T193640
CREATED:20231115T065822Z
LAST-MODIFIED:20260417T161705Z
UID:10000027-1794675600-1794682800@escreverescrever.com
SUMMARY:naftalina | um encontro com a incompreensão
DESCRIPTION:Quem\, no decorrer de uma leitura\, nunca rabiscou\, fez alguma anotação pessoal ou deixou uma palavra escrita que fosse na margem? Ler um livro é também escrever. \nNeste novo formato da «Naftalina»\, onde se dá o encontro entre a leitura e a escrita\, a proposta é abordarmos um livro por mês.  O livro\, cuja leitura prévia não é obrigatória\, é um pretexto para em sessão conversarmos e escrevermos a partir de fragmentos da narrativa\, ideias avulsas e apontamentos dos participantes. \n  \n 
URL:https://escreverescrever.com/curso/naftalina-um-encontro-com-a-incompreensao/
END:VEVENT
BEGIN:VEVENT
DTSTART;TZID=UTC:20261212T100000
DTEND;TZID=UTC:20261212T123000
DTSTAMP:20260419T193640
CREATED:20251117T024944Z
LAST-MODIFIED:20260417T163132Z
UID:10000141-1797069600-1797078600@escreverescrever.com
SUMMARY:escrever sai à rua | escrita iluminada 2026
DESCRIPTION:
URL:https://escreverescrever.com/curso/escrita-iluminada-2026/
END:VEVENT
BEGIN:VEVENT
DTSTART;TZID=UTC:20261212T170000
DTEND;TZID=UTC:20261212T190000
DTSTAMP:20260419T193640
CREATED:20240201T014804Z
LAST-MODIFIED:20260417T161832Z
UID:10000046-1797094800-1797102000@escreverescrever.com
SUMMARY:naftalina | um encontro com a cadência
DESCRIPTION:Quem\, no decorrer de uma leitura\, nunca rabiscou\, fez alguma anotação pessoal ou deixou uma palavra escrita que fosse na margem? Ler um livro é também escrever. \nNeste novo formato da «Naftalina»\, onde se dá o encontro entre a leitura e a escrita\, a proposta é abordarmos um livro por mês.  O livro\, cuja leitura prévia não é obrigatória\, é um pretexto para em sessão conversarmos e escrevermos a partir de fragmentos da narrativa\, ideias avulsas e apontamentos dos participantes. \n 
URL:https://escreverescrever.com/curso/naftalina-um-encontro-com-a-cadencia/
END:VEVENT
END:VCALENDAR