BEGIN:VCALENDAR
VERSION:2.0
PRODID:-//Escrever Escrever - ECPv6.15.20//NONSGML v1.0//EN
CALSCALE:GREGORIAN
METHOD:PUBLISH
X-ORIGINAL-URL:https://escreverescrever.com
X-WR-CALDESC:Eventos para Escrever Escrever
REFRESH-INTERVAL;VALUE=DURATION:PT1H
X-Robots-Tag:noindex
X-PUBLISHED-TTL:PT1H
BEGIN:VTIMEZONE
TZID:Europe/Lisbon
BEGIN:DAYLIGHT
TZOFFSETFROM:+0000
TZOFFSETTO:+0100
TZNAME:WEST
DTSTART:20250330T010000
END:DAYLIGHT
BEGIN:STANDARD
TZOFFSETFROM:+0100
TZOFFSETTO:+0000
TZNAME:WET
DTSTART:20251026T010000
END:STANDARD
BEGIN:DAYLIGHT
TZOFFSETFROM:+0000
TZOFFSETTO:+0100
TZNAME:WEST
DTSTART:20260329T010000
END:DAYLIGHT
BEGIN:STANDARD
TZOFFSETFROM:+0100
TZOFFSETTO:+0000
TZNAME:WET
DTSTART:20261025T010000
END:STANDARD
BEGIN:DAYLIGHT
TZOFFSETFROM:+0000
TZOFFSETTO:+0100
TZNAME:WEST
DTSTART:20270328T010000
END:DAYLIGHT
BEGIN:STANDARD
TZOFFSETFROM:+0100
TZOFFSETTO:+0000
TZNAME:WET
DTSTART:20271031T010000
END:STANDARD
END:VTIMEZONE
BEGIN:VTIMEZONE
TZID:UTC
BEGIN:STANDARD
TZOFFSETFROM:+0000
TZOFFSETTO:+0000
TZNAME:UTC
DTSTART:20250101T000000
END:STANDARD
END:VTIMEZONE
BEGIN:VEVENT
DTSTART;TZID=Europe/Lisbon:20260504T190000
DTEND;TZID=Europe/Lisbon:20260504T213000
DTSTAMP:20260419T150620
CREATED:20241114T172929Z
LAST-MODIFIED:20260316T151943Z
UID:10000108-1777921200-1777930200@escreverescrever.com
SUMMARY:português sem dúvidas | pós-laboral
DESCRIPTION:Aquilo não está bem escrito\, pois não? Vírgulas… Nunca sei se estão a mais ou a menos. Ai\, este verbo que nunca me lembro de como se conjuga! E esta palavra? Sempre foi assim ou mudou com o Acordo? \nDúvidas de Português — que ponha o dedo no ar quem não as tem. No dia a dia ou em contexto profissional\, todos temos questões que nos fazem hesitar e tropeçar\, quer na escrita quer na oralidade. E o senhor Google\, que nem sempre tem a resposta correta para tudo\, às vezes ainda baralha mais. \nNa Escrever Escrever\, desde o primeiro momento\, em 2008\, o curso de Português sempre foi dos mais procurados. Em constante aperfeiçoamento\, o objetivo mantém-se: esclarecer aquelas «dúvidas existenciais» de ortografia e gramática que surgem quando falamos ou escrevemos. Vamos rever conceitos básicos do funcionamento da língua e ficar a conhecer os caminhos a seguir para\, depois do curso terminado\, esclarecer novas questões.
URL:https://escreverescrever.com/curso/portugues-sem-duvidas-pos-laboral/
END:VEVENT
BEGIN:VEVENT
DTSTART;TZID=UTC:20260504T190000
DTEND;TZID=UTC:20260504T213000
DTSTAMP:20260419T150620
CREATED:20250218T231925Z
LAST-MODIFIED:20260417T154102Z
UID:10000121-1777921200-1777930200@escreverescrever.com
SUMMARY:escrita (auto)biográfica
DESCRIPTION:
URL:https://escreverescrever.com/curso/escrita-autobiografica/
END:VEVENT
BEGIN:VEVENT
DTSTART;TZID=UTC:20260505T100000
DTEND;TZID=UTC:20260505T123000
DTSTAMP:20260419T150620
CREATED:20240514T110551Z
LAST-MODIFIED:20260417T164007Z
UID:10000097-1777975200-1777984200@escreverescrever.com
SUMMARY:escrever com clareza
DESCRIPTION:Para que a mensagem chegue ao recetor e a comunicação se concretize\, é preciso saber redigir textos absolutamente claros. Diz-me como escreves\, dir-te-ei quem és.» A forma como escrevemos identifica-nos e influencia a imagem que transmitimos nos mais diversos contextos de interação profissional. Assim\, estruturar e simplificar a escrita é não apenas cuidar da imagem da entidade que representamos\, mas sobretudo garantir que comunicamos eficientemente. \nUm curso à medida com base nos templates internos revistos de forma a traduzir as ideias para uma  a linguagem escrita mais imediata e eficaz.
URL:https://escreverescrever.com/curso/escrever-com-clareza/
END:VEVENT
BEGIN:VEVENT
DTSTART;TZID=UTC:20260505T190000
DTEND;TZID=UTC:20260505T210000
DTSTAMP:20260419T150621
CREATED:20231115T071603Z
LAST-MODIFIED:20260417T164529Z
UID:10000030-1778007600-1778014800@escreverescrever.com
SUMMARY:publicar o meu livro
DESCRIPTION:Tenho um livro escrito e agora?\nDepois de todo o processo de escrita o objetivo da maioria dos autores é publicar o seu livro. \nEsta oficina\, pretende apresentar as diferentes possibilidades de edição\, orientar na escolha mais acertada para cada projeto\, definir a estratégia e as ferramentas necessárias para abordar uma editora\, com sucesso\, alertando ainda para os erros que não se devem cometer.
URL:https://escreverescrever.com/curso/publicar-o-meu-livro/
END:VEVENT
BEGIN:VEVENT
DTSTART;TZID=UTC:20260506T100000
DTEND;TZID=UTC:20260506T123000
DTSTAMP:20260419T150621
CREATED:20240508T121227Z
LAST-MODIFIED:20260417T165101Z
UID:10000089-1778061600-1778070600@escreverescrever.com
SUMMARY:técnicas de storytelling
DESCRIPTION:O nome está na moda\, mas a técnica é do tempo das pinturas de Foz Côa. \nUm curso breve\, divertido e prático para ficar a conhecer o poder desta ferramenta de comunicação\, útil em contexto profissional e pessoal: \n\nvisionamento de exemplos onde o storytelling é aplicado: na publicidade\, na política e  na narrativa cinematográfica\n identificação das características comuns à utilização da técnica do storytelling nos diferentes meios\nobjetivos e potencialidades das técnicas de storytelling para uma comunicação estratégica\no que distingue uma boa história de uma história bem contada\nideias chave para integrar o storytelling em apresentações\nexercícios de aplicação das técnicas apresentadas
URL:https://escreverescrever.com/curso/tecnicas-de-storytelling/
END:VEVENT
BEGIN:VEVENT
DTSTART;TZID=UTC:20260507T183000
DTEND;TZID=UTC:20260507T210000
DTSTAMP:20260419T150621
CREATED:20230602T152924Z
LAST-MODIFIED:20260417T154248Z
UID:10000002-1778178600-1778187600@escreverescrever.com
SUMMARY:escrever para crianças 1 | online
DESCRIPTION:A escrita para crianças\, como qualquer outro género de literatura\, obedece a regras próprias. Os mais novos\, apesar da sua visão pouco formatada do mundo\, são perspicazes e não se deixam levar por qualquer ilusão. Simplificar não é o mesmo que facilitar. A linguagem é o meio. Neste curso\, vamos trabalhar ideias\, dar-lhes forma através de palavras e frases. Através de leitura e análise de contos para crianças e exercícios práticos vamos explorar os diferentes tipos de livro infantil\, o ritmo e o tom do texto.
URL:https://escreverescrever.com/curso/escrever-para-criancas-1-online/
END:VEVENT
BEGIN:VEVENT
DTSTART;TZID=UTC:20260508T190000
DTEND;TZID=UTC:20260508T213000
DTSTAMP:20260419T150621
CREATED:20230603T202952Z
LAST-MODIFIED:20260417T154812Z
UID:10000004-1778266800-1778275800@escreverescrever.com
SUMMARY:escrever a espreitar a poesia 1
DESCRIPTION:
URL:https://escreverescrever.com/curso/escrever-a-espreitar-a-poesia-1/
END:VEVENT
BEGIN:VEVENT
DTSTART;TZID=UTC:20260508T190000
DTEND;TZID=UTC:20260508T213000
DTSTAMP:20260419T150621
CREATED:20251222T194820Z
LAST-MODIFIED:20260417T163356Z
UID:10000147-1778266800-1778275800@escreverescrever.com
SUMMARY:escrever os sonhos
DESCRIPTION:
URL:https://escreverescrever.com/curso/escrever-os-sonhos/
END:VEVENT
BEGIN:VEVENT
DTSTART;TZID=UTC:20260509T100000
DTEND;TZID=UTC:20260509T180000
DTSTAMP:20260419T150621
CREATED:20250212T140338Z
LAST-MODIFIED:20260417T153602Z
UID:10000075-1778320800-1778349600@escreverescrever.com
SUMMARY:escrita criativa 1 | presencial | intensivo
DESCRIPTION:Curioso\, principiante ou praticante\, seja qual for a sua relação com a escrita\, aqui queremos ouvir a sua voz. Com exercícios e partilha coletiva\, vencem-se receios\, descobrem-se novos estímulos\, textos e autores.  Mais do que melhorar a escrita\, o curso liberta a criatividade\, incentiva o pensamento crítico\, e desenvolve a empatia. Frequentado por centenas de alunos há 15 anos\, é desenvolvido por formadores experientes nas técnicas da Escrita Criativa e na sua pedagogia. \nO curso organiza-se em dois módulos: Escrita Criativa I\, com os conceitos e técnicas base da escrita; Escrita Criativa II\, para consolidar a prática\, desenvolvendo um trabalho individual mais aprofundado.
URL:https://escreverescrever.com/curso/escrita-criativa-1-presencial-intensivo/
END:VEVENT
BEGIN:VEVENT
DTSTART;TZID=UTC:20260509T140000
DTEND;TZID=UTC:20260509T163000
DTSTAMP:20260419T150621
CREATED:20231115T064728Z
LAST-MODIFIED:20260417T154428Z
UID:10000025-1778335200-1778344200@escreverescrever.com
SUMMARY:microcontos 1
DESCRIPTION:Este curso é uma introdução à escrita de microcontos\, um dos géneros mais populares da atualidade. Para quem gosta de escrever\, as pequenas histórias são um bom ponto de partida\, e é isso mesmo que iremos fazer\, com muita leitura e discussão à volta de narrativas originais e microcontos clássicos. \nAo mesmo tempo\, os participantes poderão adquirir noções básicas sobre a escrita de ficção em geral e a forma como os escritores abordam e trabalham os textos.
URL:https://escreverescrever.com/curso/microcontos-1/
END:VEVENT
BEGIN:VEVENT
DTSTART;TZID=UTC:20260509T170000
DTEND;TZID=UTC:20260509T190000
DTSTAMP:20260419T150621
CREATED:20240201T013052Z
LAST-MODIFIED:20260417T161127Z
UID:10000044-1778346000-1778353200@escreverescrever.com
SUMMARY:naftalina | um encontro com a Oceânia
DESCRIPTION:Quem\, no decorrer de uma leitura\, nunca rabiscou\, fez alguma anotação pessoal ou deixou uma palavra escrita que fosse na margem? Ler um livro é também escrever. \nNeste novo formato da «Naftalina»\, onde se dá o encontro entre a leitura e a escrita\, a proposta é abordarmos um livro por mês.  O livro\, cuja leitura prévia não é obrigatória\, é um pretexto para em sessão conversarmos e escrevermos a partir de fragmentos da narrativa\, ideias avulsas e apontamentos dos participantes. \n  \n 
URL:https://escreverescrever.com/curso/naftalina-um-encontro-com-a-oceania/
END:VEVENT
BEGIN:VEVENT
DTSTART;TZID=UTC:20260511T093000
DTEND;TZID=UTC:20260511T120000
DTSTAMP:20260419T150621
CREATED:20250218T212134Z
LAST-MODIFIED:20260417T163730Z
UID:10000012-1778491800-1778500800@escreverescrever.com
SUMMARY:escrita 4.0 | manhã
DESCRIPTION:Quer comunicar de forma efetiva no mundo digital? Seja o conteúdo de um site\, posts para redes sociais\, newsletters ou materiais para marketing digital\, a escrita online deve criar envolvimento com os leitores e\, muitas vezes\, levá-los a realizar alguma ação desejada pela empresa\, instituição ou marca. Neste curso vai ficar a conhecer novas ferramentas e estruturas específicas que poderá aplicar de forma sistemática no dia a dia\, tornando a sua escrita digital mais simples e eficaz.
URL:https://escreverescrever.com/curso/escrita-4-0-manha/
END:VEVENT
BEGIN:VEVENT
DTSTART;TZID=UTC:20260511T190000
DTEND;TZID=UTC:20260511T213000
DTSTAMP:20260419T150621
CREATED:20231114T212951Z
LAST-MODIFIED:20260417T153927Z
UID:10000013-1778526000-1778535000@escreverescrever.com
SUMMARY:escrita do eu
DESCRIPTION:Vamos\, neste curso\, utilizar a escrita como um recurso natural e expressivo. Descobrir a essência\, explorando ferramentas de acesso a vivências e ao resultado das mesmas no somatório do crescimento individual. Está tudo lá: no percurso onde se juntam peças de uma identidade\, enquanto esta ganha forma. Um caminho onde se escreve quem já fui e quem hoje sou para\, juntos\, seguirmos adiante com mais segurança na passada.
URL:https://escreverescrever.com/curso/escrita-do-eu/
END:VEVENT
BEGIN:VEVENT
DTSTART;TZID=UTC:20260511T190000
DTEND;TZID=UTC:20260511T213000
DTSTAMP:20260419T150621
CREATED:20240421T151213Z
LAST-MODIFIED:20260417T164124Z
UID:10000086-1778526000-1778535000@escreverescrever.com
SUMMARY:escrita na assessoria de imprensa
DESCRIPTION:
URL:https://escreverescrever.com/curso/escrita-na-assessoria-de-imprensa/
END:VEVENT
BEGIN:VEVENT
DTSTART;TZID=UTC:20260511T190000
DTEND;TZID=UTC:20260511T213000
DTSTAMP:20260419T150621
CREATED:20260324T123340Z
LAST-MODIFIED:20260417T163810Z
UID:10000151-1778526000-1778535000@escreverescrever.com
SUMMARY:escrita 4.0 | pós-laboral
DESCRIPTION:Quer comunicar de forma efetiva no mundo digital? Seja o conteúdo de um site\, posts para redes sociais\, newsletters ou materiais para marketing digital\, a escrita online deve criar envolvimento com os leitores e\, muitas vezes\, levá-los a realizar alguma ação desejada pela empresa\, instituição ou marca. Neste curso vai ficar a conhecer novas ferramentas e estruturas específicas que poderá aplicar de forma sistemática no dia a dia\, tornando a sua escrita digital mais simples e eficaz.
URL:https://escreverescrever.com/curso/escrita-4-0-pos-laboral/
END:VEVENT
BEGIN:VEVENT
DTSTART;TZID=Europe/Lisbon:20260514T100000
DTEND;TZID=Europe/Lisbon:20260514T123000
DTSTAMP:20260419T150621
CREATED:20241115T105135Z
LAST-MODIFIED:20260220T114723Z
UID:10000110-1778752800-1778761800@escreverescrever.com
SUMMARY:português sem dúvidas | manhã
DESCRIPTION:Aquilo não está bem escrito\, pois não? Vírgulas… Nunca sei se estão a mais ou a menos. Ai\, este verbo que nunca me lembro de como se conjuga! E esta palavra? Sempre foi assim ou mudou com o Acordo? \nDúvidas de Português — que ponha o dedo no ar quem não as tem. No dia a dia ou em contexto profissional\, todos temos questões que nos fazem hesitar e tropeçar\, quer na escrita quer na oralidade. E o senhor Google\, que nem sempre tem a resposta correta para tudo\, às vezes ainda baralha mais. \nNa Escrever Escrever\, desde o primeiro momento\, em 2008\, o curso de Português sempre foi dos mais procurados. Em constante aperfeiçoamento\, o objetivo mantém-se: esclarecer aquelas «dúvidas existenciais» de ortografia e gramática que surgem quando falamos ou escrevemos. Vamos rever conceitos básicos do funcionamento da língua e ficar a conhecer os caminhos a seguir para\, depois do curso terminado\, esclarecer novas questões.
URL:https://escreverescrever.com/curso/portugues-sem-duvidas-manha/
END:VEVENT
BEGIN:VEVENT
DTSTART;TZID=UTC:20260517T100000
DTEND;TZID=UTC:20260517T123000
DTSTAMP:20260419T150621
CREATED:20240201T042410Z
LAST-MODIFIED:20260417T162200Z
UID:10000052-1779012000-1779021000@escreverescrever.com
SUMMARY:escrever sai à rua | escrever à sombra da bananeira ⮕ últimas vagas
DESCRIPTION:Um clássico representativo das nossas dinâmicas de Escrita Criativa. Se se tratasse de gelados\, seria o equivalente ao Epá\, com a desejada pastilha elástica\, depois das lambidelas na colher e do fresquinho na mão. Acontece uma vez por mês\, com um tema\, um percurso e uma proposta sempre diferentes. São definidos de antemão um ponto de encontro e um destino. Depois\, juntos\, mas cada um ao seu ritmo e com os seus objetivos\, fazemos um caminho onde nos cruzamos com vários estímulos à volta do tema. Começamos com a leitura de um texto que é distribuído e que serve de mote. A cada etapa\, são definidos exercícios e estímulos para explorar ideias e sensações e dar corpo à escrita.
URL:https://escreverescrever.com/curso/escrever-sai-a-rua-escrever-a-sombra-da-bananeira/
END:VEVENT
BEGIN:VEVENT
DTSTART;TZID=UTC:20260518T100000
DTEND;TZID=UTC:20260518T123000
DTSTAMP:20260419T150621
CREATED:20240715T142439Z
LAST-MODIFIED:20260417T163552Z
UID:10000104-1779098400-1779107400@escreverescrever.com
SUMMARY:comunicar com assertividade e empatia
DESCRIPTION:A forma como escrevemos identifica-nos e contribui significativamente para a imagem que transmitimos nos mais diversos contextos de interação social. Cuidar da comunicação escrita é\, também\, cuidar da nossa aparência. \nO curso foi concebido a pensar em todas as pessoas que\, no seu dia a dia\, se confrontam com a dificuldade em traduzir para a linguagem escrita as suas ideias e pensamentos. Para que a mensagem chegue ao recetor e a comunicação se concretize\, é preciso saber redigir textos absolutamente claros\, manuseando os recursos verbais com agilidade e rigor.
URL:https://escreverescrever.com/curso/comunicar-com-assertividade-e-empatia/
END:VEVENT
END:VCALENDAR