BEGIN:VCALENDAR
VERSION:2.0
PRODID:-//Escrever Escrever - ECPv6.15.20//NONSGML v1.0//EN
CALSCALE:GREGORIAN
METHOD:PUBLISH
X-WR-CALNAME:Escrever Escrever
X-ORIGINAL-URL:https://escreverescrever.com
X-WR-CALDESC:Eventos para Escrever Escrever
REFRESH-INTERVAL;VALUE=DURATION:PT1H
X-Robots-Tag:noindex
X-PUBLISHED-TTL:PT1H
BEGIN:VTIMEZONE
TZID:UTC
BEGIN:STANDARD
TZOFFSETFROM:+0000
TZOFFSETTO:+0000
TZNAME:UTC
DTSTART:20250101T000000
END:STANDARD
END:VTIMEZONE
BEGIN:VEVENT
DTSTART;TZID=UTC:20260422T190000
DTEND;TZID=UTC:20260422T213000
DTSTAMP:20260419T133915
CREATED:20240206T004153Z
LAST-MODIFIED:20260417T153447Z
UID:10000069-1776884400-1776893400@escreverescrever.com
SUMMARY:escrita criativa 1 | presencial ⮕ últimas vagas
DESCRIPTION:Curioso\, principiante ou praticante\, seja qual for a sua relação com a escrita\, aqui queremos ouvir a sua voz. Com exercícios e partilha coletiva\, vencem-se receios\, descobrem-se novos estímulos\, textos e autores.  Mais do que melhorar a escrita\, o curso liberta a criatividade\, incentiva o pensamento crítico\, e desenvolve a empatia. Frequentado por centenas de alunos há 15 anos\, é desenvolvido por formadores experientes nas técnicas da Escrita Criativa e na sua pedagogia. \nO curso organiza-se em dois módulos: Escrita Criativa 1\, com os conceitos e técnicas base da escrita; Escrita Criativa 2\, para consolidar a prática\, desenvolvendo um trabalho individual mais aprofundado.
URL:https://escreverescrever.com/curso/escrita-criativa-1-presencial/
END:VEVENT
BEGIN:VEVENT
DTSTART;TZID=UTC:20260427T183000
DTEND;TZID=UTC:20260427T210000
DTSTAMP:20260419T133915
CREATED:20230602T140754Z
LAST-MODIFIED:20260417T153756Z
UID:10000001-1777314600-1777323600@escreverescrever.com
SUMMARY:escrever argumentos e guiões
DESCRIPTION:Um curso para explorar os princípios únicos das narrativas\, aplicado as principais técnicas de escrita de guião\, através do desenvolvimento de um projeto pessoal para filme ou série\, com acompanhamento construtivo e concreto ao longo de todo o processo.
URL:https://escreverescrever.com/curso/escrever-argumentos-e-guioes/
END:VEVENT
BEGIN:VEVENT
DTSTART;TZID=UTC:20260427T190000
DTEND;TZID=UTC:20260427T210000
DTSTAMP:20260419T133915
CREATED:20231114T224838Z
LAST-MODIFIED:20260417T155057Z
UID:10000022-1777316400-1777323600@escreverescrever.com
SUMMARY:escrever letras de canções 1⮕últimas vagas
DESCRIPTION:Venha partilhar a experiência de quem tem a escrita de canções como ofício diário. Tiago Torres da Silva traz-lhe ideias e atividades para superar os desafios da escrita para música. \nTrata-se de um workshop  essencialmente prático\, para adquirir ferramentas para escrever letras de canções de qualquer género musical. Noções de estrutura\, de métrica\, repetição e outras\, ajudarão os participantes a construir letras que podem ir da pop ao samba\, do folclore à morna\, do rock ao fado\, com especial destaque para o fado tradicional.  No final\, cada participante terá\, pelo menos\, uma letra de canção terminada.
URL:https://escreverescrever.com/curso/escrever-letras-de-cancoes-1/
END:VEVENT
END:VCALENDAR